BEGIN:VCALENDAR
VERSION:2.0
PRODID:-//wp-events-plugin.com//7.2.3.1//EN
TZID:America/New_York
X-WR-TIMEZONE:America/New_York
BEGIN:VEVENT
UID:3157@kolamielkinspark.org
DTSTART;TZID=America/New_York:20260508T193000
DTEND;TZID=America/New_York:20260508T210000
DTSTAMP:20260326T165814Z
URL:https://www.kolamielkinspark.org/events/special-music-erev-shabbat-w-l
 eon-sher/
SUMMARY:Second Friday Erev Shabbat Service in Person
DESCRIPTION:Join Rebecca and Rabbi David for birthday and anniversary bless
 ings.&nbsp\;\n\nIn person at Shaare Shamayim\n\nFollowing the service we w
 ill be treated to a special presentation by Reb Simcha Raphael on the Afte
 rlife.\n\n&nbsp\;\nEXPLORING JEWISH\nVIEWS OF THE AFTERLIFE:\nContemporary
  Implications\npresented by\nReb Simcha Raphael\nDoes Judaism believe in t
 he afterlife? Unequivocally\, the answer is yes!\nUnfortunately\, in conte
 mporary Jewish life we have lost touch with traditional\nJewish wisdom on 
 the afterlife. In this presentation\, we shall explore Judaism's\nteaching
 s on life after death\, particularly in Kabbalah – Jewish mysticism.\nTh
 rough discussion\, story-telling and study of mystical texts\, we shall ex
 plore the\nrelevance of these teachings in dealing with the human encounte
 r with death. We\nshall also discover the connection between Jewish teachi
 ngs on the afterlife\nand traditional Jewish death rituals.\nREB SIMCHA RA
 PHAEL\, PH.D. is Founding Director of the DA’AT Institute for Death\n&nb
 sp\;\n\n&nbsp\;\n\n&nbsp\;\n\n&nbsp\;
END:VEVENT
BEGIN:VTIMEZONE
TZID:America/New_York
X-LIC-LOCATION:America/New_York
BEGIN:DAYLIGHT
DTSTART:20260308T030000
TZOFFSETFROM:-0500
TZOFFSETTO:-0400
TZNAME:EDT
END:DAYLIGHT
END:VTIMEZONE
END:VCALENDAR